BEGIN:VCALENDAR
VERSION:2.0
PRODID:-//ChamberMaster//Event Calendar 2.0//EN
METHOD:PUBLISH
X-PUBLISHED-TTL:P3D
REFRESH-INTERVAL:P3D
CALSCALE:GREGORIAN
BEGIN:VEVENT
DTSTART:20251025T140000Z
DTEND:20251025T180000Z
X-MICROSOFT-CDO-ALLDAYEVENT:FALSE
SUMMARY:Smith County Master Gardener 2025 Annual From Bulbs to Blooms Conference & Bulb Sale
DESCRIPTION:Conference will feature speaker Dr. Greg Grant - Growing On and On: A Bulb Sale Preview. Featuring hard to find heritage\, hardy and locally trialed bulbs\, and a variety of trees and shrubs.
X-ALT-DESC;FMTTYPE=text/html:Conference will feature speaker Dr. Greg Grant - Growing On and On: A Bulb Sale Preview. Featuring hard to find heritage\, hardy and locally trialed bulbs\, and a variety of trees and shrubs.
LOCATION:Pollard United Methodist Church 3030 New Copeland Rd\, Tyler TX
UID:e.1648.16194
SEQUENCE:3
DTSTAMP:20260419T155957Z
URL:http://tylerarea.sampleorg.com/events/details/smith-county-master-gardener-2025-annual-from-bulbs-to-blooms-conference-bulb-sale-16194
END:VEVENT

END:VCALENDAR
