BEGIN:VCALENDAR
VERSION:2.0
PRODID:-//ChamberMaster//Event Calendar 2.0//EN
METHOD:PUBLISH
X-PUBLISHED-TTL:P3D
REFRESH-INTERVAL:P3D
CALSCALE:GREGORIAN
BEGIN:VEVENT
DTSTART:20250531T230000Z
DTEND:20250601T020000Z
X-MICROSOFT-CDO-ALLDAYEVENT:FALSE
SUMMARY:Smith County Habitat's Boots & Blueprints Gala & Auction
DESCRIPTION:We invite you to support and attend our upcoming fundraiser\, 'Boots & Blueprints\,' on the evening of May 31\, 2025 at Willow Book Country Club. Join us in your 'East Texas evening attire' for a more casual take on our typical gala event - starched denim\, boots and hats are welcomed! During our event\, you'll have the chance to learn more about how Habitat's work to provide affordable housing is changing lives in Smith County. You'll even have the opportunity to 'build a house\,' in partnership with your peers\, during our live Build that House Auction. We look forward to partnering with you to provide a safe\, healthy\, and affordable homes for our Smith County neighbors. Everyone deserves a decent place to live\, and together we can make the dream of homeownership and stability a reality.
X-ALT-DESC;FMTTYPE=text/html:We invite you to support and attend our upcoming fundraiser\, &lsquo\;Boots &amp\; Blueprints\,&rsquo\; on the evening of May 31\, 2025 at Willow Book Country Club. Join us in your &lsquo\;East Texas evening attire&rsquo\; for a more casual take on our typical gala event - starched denim\, boots and hats are welcomed! During our event\, you&rsquo\;ll have the chance to learn more about how Habitat&rsquo\;s work to provide affordable housing is changing lives in Smith County. You&rsquo\;ll even have the opportunity to &lsquo\;build a house\,&rsquo\; in partnership with your peers\, during our live Build that House Auction. We look forward to partnering with you to provide a safe\, healthy\, and affordable homes for our Smith County neighbors. Everyone deserves a decent place to live\, and together we can make the dream of homeownership and stability a reality.
LOCATION:Willow Book Country Club
UID:e.1648.16063
SEQUENCE:3
DTSTAMP:20260419T234721Z
URL:http://tylerarea.sampleorg.com/events/details/smith-county-habitat-s-boots-blueprints-gala-auction-16063
END:VEVENT

END:VCALENDAR
