BEGIN:VCALENDAR
VERSION:2.0
PRODID:-//ChamberMaster//Event Calendar 2.0//EN
METHOD:PUBLISH
X-PUBLISHED-TTL:P3D
REFRESH-INTERVAL:P3D
CALSCALE:GREGORIAN
BEGIN:VEVENT
DTSTART;VALUE=DATE:20240909
DTEND;VALUE=DATE:20240910
TRANSP:TRANSPARENT
X-MICROSOFT-CDO-ALLDAYEVENT:TRUE
SUMMARY:Smiles Fore Kids Annual Golf Tournament
DESCRIPTION:We are thrilled to announce our 6th Annual Golf Tournament Hosted by Sheriff Larry R Smith First Responders & Friends on Monday 9/9 @ Hideaway Lake Club. We are excited to bring you an unforgettable event with fun\, camaraderie\, and a bit of friendly competition. All donations\, sponsorships\, and team entry costs benefit local children in need and provide scholarships for Smith County Law Enforcement and First Responder Students.
X-ALT-DESC;FMTTYPE=text/html:We are thrilled to announce our 6th Annual Golf Tournament Hosted by Sheriff Larry R Smith First Responders &amp\; Friends on Monday 9/9 @ Hideaway Lake Club. We are excited to bring you an unforgettable event with fun\, camaraderie\, and a bit of friendly competition. All donations\, sponsorships\, and team entry costs benefit local children in need and provide scholarships for Smith County Law Enforcement and First Responder Students.
LOCATION:Hideaway Lake Club 101 Hideaway Lane Central\, Hideaway\, TX 75771
UID:e.1648.15745
SEQUENCE:3
DTSTAMP:20260420T102749Z
URL:http://tylerarea.sampleorg.com/events/details/smiles-fore-kids-annual-golf-tournament-15745
END:VEVENT

END:VCALENDAR
