BEGIN:VCALENDAR
VERSION:2.0
PRODID:-//ChamberMaster//Event Calendar 2.0//EN
METHOD:PUBLISH
X-PUBLISHED-TTL:P3D
REFRESH-INTERVAL:P3D
CALSCALE:GREGORIAN
BEGIN:VEVENT
DTSTART:20240919T220000Z
DTEND:20240920T003000Z
X-MICROSOFT-CDO-ALLDAYEVENT:FALSE
SUMMARY:Small Business Workshop for Spanish Speakers
DESCRIPTION:Join Southside Bank and the Hispanic Business Alliance for our annual Small Business Workshop for Spanish Speakers on Thursday\, September 19th. This family-friendly event provides entrepreneurs in the Spanish-speaking community with a unique opportunity to network and gain valuable information with community-focused business experts. Food truck\, vendor booths\, and activities start at 5 pm\, educational sessions begin at 6 pm. Presenters will cover key topics\, including cybersecurity\, technology\, fraud prevention\, commercial lending\, merchant services\, and mortgage lending.
X-ALT-DESC;FMTTYPE=text/html:Join Southside Bank and the Hispanic Business Alliance for our annual Small Business Workshop for Spanish Speakers on Thursday\, September 19th. This family-friendly event provides entrepreneurs in the Spanish-speaking community with a unique opportunity to network and gain valuable information with community-focused business experts. Food truck\, vendor booths\, and activities start at 5 pm\, educational sessions begin at 6 pm. Presenters will cover key topics\, including cybersecurity\, technology\, fraud prevention\, commercial lending\, merchant services\, and mortgage lending.
LOCATION:1201 S. Beckham Ave.\, Tyler\, TX 75701
UID:e.1648.15810
SEQUENCE:3
DTSTAMP:20260420T102242Z
URL:http://tylerarea.sampleorg.com/events/details/small-business-workshop-for-spanish-speakers-15810
END:VEVENT

END:VCALENDAR
