BEGIN:VCALENDAR
VERSION:2.0
PRODID:-//ChamberMaster//Event Calendar 2.0//EN
METHOD:PUBLISH
X-PUBLISHED-TTL:P3D
REFRESH-INTERVAL:P3D
CALSCALE:GREGORIAN
BEGIN:VEVENT
DTSTART:20261003T130000Z
DTEND:20261003T160000Z
X-MICROSOFT-CDO-ALLDAYEVENT:FALSE
SUMMARY:Sisters In Hope Breast Cancer Awareness Walk
DESCRIPTION:The 2026 Sisters in Hope Breast Cancer Awareness Walk is a fun\, family-friendly event that brings our community together to get active\, raise funds and support the mission of CHRISTUS Mother Frances Hospital. Seasoned walkers or anyone looking for a great day out can join us to celebrate health\, honor survivors and remember loved ones affected by breast cancer. Lace up your sneakers for a day filled with music\, activities\, and togetherness beside our sisters in hope\, faith and love.
X-ALT-DESC;FMTTYPE=text/html:The 2026 Sisters in Hope Breast Cancer Awareness Walk is a fun\, family-friendly event that brings our community together to get active\, raise funds and support the mission of CHRISTUS Mother Frances Hospital. Seasoned walkers or anyone looking for a great day out can join us to celebrate health\, honor survivors and remember loved ones affected by breast cancer. Lace up your sneakers for a day filled with music\, activities\, and togetherness beside our sisters in hope\, faith and love.
LOCATION:Bergfeld Park 1510 S. College Ave\, Tyler\, TX 75703
UID:e.1648.16364
SEQUENCE:3
DTSTAMP:20260419T160036Z
URL:http://tylerarea.sampleorg.com/events/details/sisters-in-hope-breast-cancer-awareness-walk-16364
END:VEVENT

END:VCALENDAR
