BEGIN:VCALENDAR
VERSION:2.0
PRODID:-//ChamberMaster//Event Calendar 2.0//EN
METHOD:PUBLISH
X-PUBLISHED-TTL:P3D
REFRESH-INTERVAL:P3D
CALSCALE:GREGORIAN
BEGIN:VEVENT
DTSTART:20250708T220000Z
DTEND:20250709T000000Z
X-MICROSOFT-CDO-ALLDAYEVENT:FALSE
SUMMARY:Second Tuesday Networking Happy Hour
DESCRIPTION:The Second Tuesday Networking Happy Hour takes place on the second Tuesday of each month from 5 - 7 PM. On odd-numbered months\, we meet at the Republic Icehouse in Tyler\, Texas. On even-numbered months we meet at Tyler Athletic and Swim Club. We are a group of local business professionals who meet to share a drink and network with other like-minded people. Our focus is not only using the group to grow our own business\, but also each other's. Come by and see us\, we're there every month. Let's grow together!
X-ALT-DESC;FMTTYPE=text/html:The Second Tuesday Networking Happy Hour takes place on the second Tuesday of each month from 5 - 7 PM. On odd-numbered months\, we meet at the Republic Icehouse in Tyler\, Texas. On even-numbered months we meet at Tyler Athletic and Swim Club. We are a group of local business professionals who meet to share a drink and network with other like-minded people. Our focus is not only using the group to grow our own business\, but also each other&#39\;s. Come by and see us\, we&#39\;re there every month. Let&#39\;s grow together!
LOCATION:Republic Icehouse\, 3807 University Blvd Tyler\, Tx. 75701
UID:e.1648.16178
SEQUENCE:3
DTSTAMP:20260419T203243Z
URL:http://tylerarea.sampleorg.com/events/details/second-tuesday-networking-happy-hour-16178
END:VEVENT

END:VCALENDAR
