BEGIN:VCALENDAR
VERSION:2.0
PRODID:-//ChamberMaster//Event Calendar 2.0//EN
METHOD:PUBLISH
X-PUBLISHED-TTL:P3D
REFRESH-INTERVAL:P3D
CALSCALE:GREGORIAN
BEGIN:VEVENT
DTSTART:20251111T230000Z
DTEND:20251112T010000Z
X-MICROSOFT-CDO-ALLDAYEVENT:FALSE
SUMMARY:Second Tuesday Networking Happy Hour
DESCRIPTION:Monthly meeting of Tyler area small businesses. Relax with complementary appetizers and drink specials and get to know your fellow Tyler entrepreneurs. Let's grow together!
X-ALT-DESC;FMTTYPE=text/html:Monthly meeting of Tyler area small businesses. Relax with complementary appetizers and drink specials and get to know your fellow Tyler entrepreneurs. Let&#39\;s grow together!
LOCATION:Republic Icehouse 3807 University Blvd Tyler\, Tx. 75701
UID:e.1648.16247
SEQUENCE:3
DTSTAMP:20260419T125026Z
URL:http://tylerarea.sampleorg.com/events/details/second-tuesday-networking-happy-hour-11-11-2025-16247
END:VEVENT

END:VCALENDAR
