BEGIN:VCALENDAR
VERSION:2.0
PRODID:-//ChamberMaster//Event Calendar 2.0//EN
METHOD:PUBLISH
X-PUBLISHED-TTL:P3D
REFRESH-INTERVAL:P3D
CALSCALE:GREGORIAN
BEGIN:VEVENT
DTSTART:20240801T213000Z
DTEND:20240802T000000Z
X-MICROSOFT-CDO-ALLDAYEVENT:FALSE
SUMMARY:School is Cool
DESCRIPTION:The 11th Annual School is Cool is a countywide back-to-school celebration and preparation event\; our goal is to foster a culture of education and to prepare families and students for a successful school year. During one evening each August\, parents and students (from prekindergarten through 12th grade) are able to access a wide variety of services across several local agencies that will lead to a successful start to the school year. This project does what no single organization is able to do alone. It joins individuals\, businesses\, service agencies and everything in between together\, working with a singular focus: to promote a culture of education as we invest in our community's immediate needs.
X-ALT-DESC;FMTTYPE=text/html:The 11th Annual School is Cool is a countywide back-to-school celebration and preparation event\; our goal is to foster a culture of education and to prepare families and students for a successful school year. During one evening each August\, parents and students (from prekindergarten through 12th grade) are able to access a wide variety of services across several local agencies that will lead to a successful start to the school year. This project does what no single organization is able to do alone. It joins individuals\, businesses\, service agencies and everything in between together\, working with a singular focus: to promote a culture of education as we invest in our community&rsquo\;s immediate needs.
LOCATION:W.T. Brookshire Conference Center & Rose Garden Center
UID:e.1648.15739
SEQUENCE:3
DTSTAMP:20260420T132246Z
URL:http://tylerarea.sampleorg.com/events/details/school-is-cool-15739
END:VEVENT

END:VCALENDAR
