BEGIN:VCALENDAR
VERSION:2.0
PRODID:-//ChamberMaster//Event Calendar 2.0//EN
METHOD:PUBLISH
X-PUBLISHED-TTL:P3D
REFRESH-INTERVAL:P3D
CALSCALE:GREGORIAN
BEGIN:VEVENT
DTSTART:20241206T003000Z
DTEND:20241206T020000Z
X-MICROSOFT-CDO-ALLDAYEVENT:FALSE
SUMMARY:Rose City Christmas Parade
DESCRIPTION:Registration is open for the Rose City Christmas Parade hosted by the three Rotary Clubs in Tyler. Entries being accepted from organizations\, bands\, and other groups. Please register early as registration will end October 31st\, or once 110 entries are received. This year's theme is "The Magic of Rotary".
X-ALT-DESC;FMTTYPE=text/html:Registration is open for the Rose City Christmas Parade hosted by the three Rotary Clubs in Tyler. Entries being accepted from organizations\, bands\, and other groups. Please register early as registration will end October 31st\, or once 110 entries are received. This year&rsquo\;s theme is &ldquo\;The Magic of Rotary&rdquo\;.
LOCATION:Downtown Tyler
UID:e.1648.15802
SEQUENCE:3
DTSTAMP:20260420T061931Z
URL:http://tylerarea.sampleorg.com/events/details/rose-city-christmas-parade-15802
END:VEVENT

END:VCALENDAR
