BEGIN:VCALENDAR
VERSION:2.0
PRODID:-//ChamberMaster//Event Calendar 2.0//EN
METHOD:PUBLISH
X-PUBLISHED-TTL:P3D
REFRESH-INTERVAL:P3D
CALSCALE:GREGORIAN
BEGIN:VEVENT
DTSTART:20250124T223000Z
DTEND:20250125T033000Z
X-MICROSOFT-CDO-ALLDAYEVENT:FALSE
SUMMARY:RMNT Conference
DESCRIPTION:We invite all young men in 6th-12th grade to join us for the REMNANT Conference hosted by SomaChurch. This is more than just an event\; it's a movement to strengthen the foundation of the next generation of men. We believe that by equipping them with the right tools\, faith\, and support\, we can significantly impact our city and the world. Don't miss this opportunity to be part of something special. Join us as we invest in the future of our young men\, providing them with everything they need to thrive in their personal lives and faith. We can't wait to see you there!
X-ALT-DESC;FMTTYPE=text/html:We invite all young men in 6th-12th grade to join us for the REMNANT Conference hosted by SomaChurch. This is more than just an event\; it&rsquo\;s a movement to strengthen the foundation of the next generation of men. We believe that by equipping them with the right tools\, faith\, and support\, we can significantly impact our city and the world. Don&rsquo\;t miss this opportunity to be part of something special. Join us as we invest in the future of our young men\, providing them with everything they need to thrive in their personal lives and faith. We can&rsquo\;t wait to see you there!
LOCATION:Soma Church 3700 Old Bullard Rd Tyler\, TX 75701
UID:e.1648.15962
SEQUENCE:3
DTSTAMP:20260420T041930Z
URL:http://tylerarea.sampleorg.com/events/details/rmnt-conference-15962
END:VEVENT

END:VCALENDAR
