BEGIN:VCALENDAR
VERSION:2.0
PRODID:-//ChamberMaster//Event Calendar 2.0//EN
METHOD:PUBLISH
X-PUBLISHED-TTL:P3D
REFRESH-INTERVAL:P3D
CALSCALE:GREGORIAN
BEGIN:VEVENT
DTSTART:20241112T230000Z
DTEND:20241113T010000Z
X-MICROSOFT-CDO-ALLDAYEVENT:FALSE
SUMMARY:Ribbon Cutting Action Behavior Center
DESCRIPTION:We are celebrating our grand opening with an Open House and Ribbon Cutting Tuesday November 12\, 2024 with facility tours\, food and beverages\, along with our clinical staff will be on hand to answer in depth questions about our therapy program. We are excited to announce that our Autsim Therapy facility is officially open in Tyler! Every individual with autism has their own special story. At ABC\, our goal is to empower children with autism to achieve their full potential. We meet every child where they are\, using a strengths-based approach. We offer a no-cost ADOS benefit and individualized\, ascent-based therapy tailored for your autistic children.
X-ALT-DESC;FMTTYPE=text/html:We are celebrating our grand opening with an Open House and Ribbon Cutting Tuesday November 12\, 2024 with facility tours\, food and beverages\, along with our clinical staff will be on hand to answer in depth questions about our therapy program. We are excited to announce that our Autsim Therapy facility is officially open in Tyler! Every individual with autism has their own special story. At ABC\, our goal is to empower children with autism to achieve their full potential. We meet every child where they are\, using a strengths-based approach. We offer a no-cost ADOS benefit and individualized\, ascent-based therapy tailored for your autistic children.
LOCATION:6555 Old Jacksonville Highway\, Tyler\, Texas 75703
UID:e.1648.15875
SEQUENCE:3
DTSTAMP:20260420T073153Z
URL:http://tylerarea.sampleorg.com/events/details/ribbon-cutting-action-behavior-center-15875
END:VEVENT

END:VCALENDAR
