BEGIN:VCALENDAR
VERSION:2.0
PRODID:-//ChamberMaster//Event Calendar 2.0//EN
METHOD:PUBLISH
X-PUBLISHED-TTL:P3D
REFRESH-INTERVAL:P3D
CALSCALE:GREGORIAN
BEGIN:VEVENT
DTSTART:20250320T170000Z
DTEND:20250320T210000Z
X-MICROSOFT-CDO-ALLDAYEVENT:FALSE
SUMMARY:Ribbon cutting
DESCRIPTION:We are having our grand opening Novus Glass of Tyler OG Glass
X-ALT-DESC;FMTTYPE=text/html:We are having our grand opening Novus Glass of Tyler OG Glass
LOCATION:3550 Westway Ste A
UID:e.1648.16012
SEQUENCE:3
DTSTAMP:20260420T010925Z
URL:http://tylerarea.sampleorg.com/events/details/ribbon-cutting-16012
END:VEVENT

END:VCALENDAR
