BEGIN:VCALENDAR
VERSION:2.0
PRODID:-//ChamberMaster//Event Calendar 2.0//EN
METHOD:PUBLISH
X-PUBLISHED-TTL:P3D
REFRESH-INTERVAL:P3D
CALSCALE:GREGORIAN
BEGIN:VEVENT
DTSTART:20240914T150000Z
DTEND:20240914T210000Z
X-MICROSOFT-CDO-ALLDAYEVENT:FALSE
SUMMARY:Putt Putt in the Park
DESCRIPTION:We would be honored if you would join us as we celebrate 20 years of healing at The Children's Park of Tyler with a weekend of Putt Putt in the Park! Details For one weekend only we are transforming The Children's Park of Tyler into a Putt Putt Paradise with 18 unique mini golf holes! Register to Attend Saturday for our public celebration. Reservations are required and spots are likely to fill up fast so don't miss your chance register today! We are incredibly grateful for 20 YEARS together in Tyler and look forward to growing together for many years to come. Register online at https://www.childrensparktyler.org/putt-putt/ In addition to Saturday's Public Putt Putt\, there will be a Putt Putt Tournament on Friday as well. Email KendallsEvents@gmail.com to Sponsor a Team to compete in Friday's Tournament or to Decorate a Hole on the course!
X-ALT-DESC;FMTTYPE=text/html:We would be honored if you would join us as we celebrate 20 years of healing at The Children&rsquo\;s Park of Tyler with a weekend of Putt Putt in the Park! Details For one weekend only we are transforming The Children&rsquo\;s Park of Tyler into a Putt Putt Paradise with 18 unique mini golf holes! Register to Attend Saturday for our public celebration. Reservations are required and spots are likely to fill up fast so don&rsquo\;t miss your chance register today! We are incredibly grateful for 20 YEARS together in Tyler and look forward to growing together for many years to come. Register online at https://www.childrensparktyler.org/putt-putt/ In addition to Saturday&#39\;s Public Putt Putt\, there will be a Putt Putt Tournament on Friday as well. Email KendallsEvents@gmail.com to Sponsor a Team to compete in Friday&#39\;s Tournament or to Decorate a Hole on the course!
LOCATION:The Children's Park of Tyler
UID:e.1648.15616
SEQUENCE:3
DTSTAMP:20260420T102641Z
URL:http://tylerarea.sampleorg.com/events/details/putt-putt-in-the-park-15616
END:VEVENT

END:VCALENDAR
