BEGIN:VCALENDAR
VERSION:2.0
PRODID:-//ChamberMaster//Event Calendar 2.0//EN
METHOD:PUBLISH
X-PUBLISHED-TTL:P3D
REFRESH-INTERVAL:P3D
CALSCALE:GREGORIAN
BEGIN:VEVENT
DTSTART:20250410T230000Z
DTEND:20250411T010000Z
X-MICROSOFT-CDO-ALLDAYEVENT:FALSE
SUMMARY:Public Health Short Film
DESCRIPTION:Explore how public health has increased life spans and saved countless lives from disease with a free public screening of the Invisible Shield\, episodes 1 and 2. Documentary made available through PBS.
X-ALT-DESC;FMTTYPE=text/html:Explore how public health has increased life spans and saved countless lives from disease with a free public screening of the Invisible Shield\, episodes 1 and 2. Documentary made available through PBS.
LOCATION:UT Tyler University Center\, Mabry Theater\, 3900 University Blvd\, Tyler\, Texas 75799
UID:e.1648.16050
SEQUENCE:3
DTSTAMP:20260420T011646Z
URL:http://tylerarea.sampleorg.com/events/details/public-health-short-film-16050
END:VEVENT

END:VCALENDAR
