BEGIN:VCALENDAR
VERSION:2.0
PRODID:-//ChamberMaster//Event Calendar 2.0//EN
METHOD:PUBLISH
X-PUBLISHED-TTL:P3D
REFRESH-INTERVAL:P3D
CALSCALE:GREGORIAN
BEGIN:VEVENT
DTSTART:20250313T003000Z
DTEND:20250313T023000Z
X-MICROSOFT-CDO-ALLDAYEVENT:FALSE
SUMMARY:Pretty Woman – The Musical
DESCRIPTION:Pretty Woman   The Musical Wednesday\, March 12\, 2025   7:30 PM PRETTY WOMAN: THE MUSICAL\, based on one of Hollywood's most beloved romantic stories of all time\, springs to life with a powerhouse creative team led by two-time Tony Award -winning director and choreographer Jerry Mitchell (Hairspray\, Kinky Boots\, Legally Blonde). PRETTY WOMAN: THE MUSICAL features an original score by Grammy  winner Bryan Adams and Jim Vallance ("Summer of '69"\, "Heaven")\, and a book by the movie's legendary director Garry Marshall and screenwriter J. F. Lawton. PRETTY WOMAN: THE MUSICAL will lift your spirits and light up your heart. "If you love the movie\, you'll love the musical!" (BuzzFeed News). Are you ready to fall in love all over again? Mature content and language
X-ALT-DESC;FMTTYPE=text/html:Pretty Woman &ndash\; The Musical Wednesday\, March 12\, 2025 &bull\; 7:30 PM PRETTY WOMAN: THE MUSICAL\, based on one of Hollywood&rsquo\;s most beloved romantic stories of all time\, springs to life with a powerhouse creative team led by two-time Tony Award&reg\;-winning director and choreographer Jerry Mitchell (Hairspray\, Kinky Boots\, Legally Blonde). PRETTY WOMAN: THE MUSICAL features an original score by Grammy&reg\; winner Bryan Adams and Jim Vallance (&ldquo\;Summer of &rsquo\;69&rdquo\;\, &ldquo\;Heaven&rdquo\;)\, and a book by the movie&rsquo\;s legendary director Garry Marshall and screenwriter J. F. Lawton. PRETTY WOMAN: THE MUSICAL will lift your spirits and light up your heart. &ldquo\;If you love the movie\, you&rsquo\;ll love the musical!&rdquo\; (BuzzFeed News). Are you ready to fall in love all over again? Mature content and language
LOCATION:UT Tyler Cowan Center
UID:e.1648.15758
SEQUENCE:3
DTSTAMP:20260420T011648Z
URL:http://tylerarea.sampleorg.com/events/details/pretty-woman-the-musical-15758
END:VEVENT

END:VCALENDAR
