BEGIN:VCALENDAR
VERSION:2.0
PRODID:-//ChamberMaster//Event Calendar 2.0//EN
METHOD:PUBLISH
X-PUBLISHED-TTL:P3D
REFRESH-INTERVAL:P3D
CALSCALE:GREGORIAN
BEGIN:VEVENT
DTSTART:20250419T150000Z
DTEND:20250419T220000Z
X-MICROSOFT-CDO-ALLDAYEVENT:FALSE
SUMMARY:Powering the Future Exhibit Grand Opening
DESCRIPTION:Join us for the Grand Opening of Powering The Future! Celebrate with fun activities like a bounce house\, obstacle course\, face painting\, Easter egg hunt\, special energy demonstrations\, and more! Explore our brand-new exhibit and discover how energy powers our world!
X-ALT-DESC;FMTTYPE=text/html:Join us for the Grand Opening of Powering The Future! Celebrate with fun activities like a bounce house\, obstacle course\, face painting\, Easter egg hunt\, special energy demonstrations\, and more! Explore our brand-new exhibit and discover how energy powers our world!
LOCATION:Discovery Science Place 308 N. Broadway Tyler\, TX 75702
UID:e.1648.16043
SEQUENCE:3
DTSTAMP:20260419T235014Z
URL:http://tylerarea.sampleorg.com/events/details/powering-the-future-exhibit-grand-opening-16043
END:VEVENT

END:VCALENDAR
