BEGIN:VCALENDAR
VERSION:2.0
PRODID:-//ChamberMaster//Event Calendar 2.0//EN
METHOD:PUBLISH
X-PUBLISHED-TTL:P3D
REFRESH-INTERVAL:P3D
CALSCALE:GREGORIAN
BEGIN:VEVENT
DTSTART:20251012T020000Z
DTEND:20251012T200000Z
X-MICROSOFT-CDO-ALLDAYEVENT:FALSE
SUMMARY:Pickleball Corporate Team Challenge
DESCRIPTION:Did you know that we have two nationally ranked Collegiate Tennis teams in Tyler TX! We are hosting a Corporate Collegiate Pickleball Challenge on Oct. 11 and we are inviting you to enter a team of your guys and gals! https://tylerracquetclubllc.regfox.com/tjc-ut-tyler-corporate-collegiate-team-challenge-
X-ALT-DESC;FMTTYPE=text/html:Did you know that we have two nationally ranked Collegiate Tennis teams in Tyler TX! We are hosting a Corporate Collegiate Pickleball Challenge on Oct. 11 and we are inviting you to enter a team of your guys and gals! https://tylerracquetclubllc.regfox.com/tjc-ut-tyler-corporate-collegiate-team-challenge-
LOCATION:Tyler Racquet Club
UID:e.1648.16224
SEQUENCE:3
DTSTAMP:20260419T142850Z
URL:http://tylerarea.sampleorg.com/events/details/pickleball-corporate-team-challenge-16224
END:VEVENT

END:VCALENDAR
