BEGIN:VCALENDAR
VERSION:2.0
PRODID:-//ChamberMaster//Event Calendar 2.0//EN
METHOD:PUBLISH
X-PUBLISHED-TTL:P3D
REFRESH-INTERVAL:P3D
CALSCALE:GREGORIAN
BEGIN:VEVENT
DTSTART:20240622T140000Z
DTEND:20240622T160000Z
X-MICROSOFT-CDO-ALLDAYEVENT:FALSE
SUMMARY:Passport to Fun
DESCRIPTION:Wanting to enjoy a fun filled shopping day while also helping abused and neglected children in our community? Casa for Kids of East Texas has the perfect event coming up on June 22nd that has just what you are looking for! Attendees will begin the day with breakfast\, on-site shopping\, goodie bags stuffed with various vendor items\, and an interactive fashion show. Then\, hit the town for shopping fun with your crew! Don't forget to get your provided "passport" stamped to be entered into a drawing for the GRAND PRIZE. The more stamps\, the more chances to win! Don't worry\; we have breaks and lunch stops scheduled too. Shopping is at your crews own pace. Vendors welcome to join in the fun by becoming a part of the Passport to Fun vendor list. If interested\, join now and come set up a booth at our indoor\, on-site Casa for Kids event\, or join as a brick & mortar vendor. Register now\, space is limited\, and you will not want to miss out on the fun! Visit tylercasa.com to learn more or give us a call at 903.597.7725.
X-ALT-DESC;FMTTYPE=text/html:Wanting to enjoy a fun filled shopping day while also helping abused and neglected children in our community? Casa for Kids of East Texas has the perfect event coming up on June 22nd that has just what you are looking for! Attendees will begin the day with breakfast\, on-site shopping\, goodie bags stuffed with various vendor items\, and an interactive fashion show. Then\, hit the town for shopping fun with your crew! Don&rsquo\;t forget to get your provided &ldquo\;passport&rdquo\; stamped to be entered into a drawing for the GRAND PRIZE. The more stamps\, the more chances to win! Don&rsquo\;t worry\; we have breaks and lunch stops scheduled too. Shopping is at your crews own pace. Vendors welcome to join in the fun by becoming a part of the Passport to Fun vendor list. If interested\, join now and come set up a booth at our indoor\, on-site Casa for Kids event\, or join as a brick &amp\; mortar vendor. Register now\, space is limited\, and you will not want to miss out on the fun! Visit tylercasa.com to learn more or give us a call at 903.597.7725.
LOCATION:3616 West Way St\, Tyler\, TX 75703
UID:e.1648.15712
SEQUENCE:3
DTSTAMP:20260420T145307Z
URL:http://tylerarea.sampleorg.com/events/details/passport-to-fun-06-22-2024-15712
END:VEVENT

END:VCALENDAR
