BEGIN:VCALENDAR
VERSION:2.0
PRODID:-//ChamberMaster//Event Calendar 2.0//EN
METHOD:PUBLISH
X-PUBLISHED-TTL:P3D
REFRESH-INTERVAL:P3D
CALSCALE:GREGORIAN
BEGIN:VEVENT
DTSTART:20251118T173000Z
DTEND:20251118T190000Z
X-MICROSOFT-CDO-ALLDAYEVENT:FALSE
SUMMARY:Out of the BLUE
DESCRIPTION:Goodwill Industries 50th Anniversary
X-ALT-DESC;FMTTYPE=text/html:Goodwill Industries 50th Anniversary
LOCATION:Green Acres Cross Walk 1607 Troup Hwy Tyle \,TX. 75701
UID:e.1648.16199
SEQUENCE:3
DTSTAMP:20260419T125527Z
URL:http://tylerarea.sampleorg.com/events/details/out-of-the-blue-16199
END:VEVENT

END:VCALENDAR
