BEGIN:VCALENDAR
VERSION:2.0
PRODID:-//ChamberMaster//Event Calendar 2.0//EN
METHOD:PUBLISH
X-PUBLISHED-TTL:P3D
REFRESH-INTERVAL:P3D
CALSCALE:GREGORIAN
BEGIN:VEVENT
DTSTART:20250517T000000Z
DTEND:20250517T020000Z
X-MICROSOFT-CDO-ALLDAYEVENT:FALSE
SUMMARY:Open House for Equine Expressions Collection ?by Robyn Parker Feehan
DESCRIPTION:Don't miss this chance to experience Robyn Parker Feehan's extraordinary work and to celebrate the pure\, unbridled spirit of the equine form. The Foundry Tyler TX eagerly awaits your visit to this art event. An evening with the artist
X-ALT-DESC;FMTTYPE=text/html:Don&#39\;t miss this chance to experience Robyn Parker Feehan&#39\;s extraordinary work and to celebrate the pure\, unbridled spirit of the equine form. The Foundry Tyler TX eagerly awaits your visit to this art event. An evening with the artist
LOCATION:THE FOUNDRY COFFEE HOUSE 202 South Broadway Avenue Tyler\, TX\, 75702
UID:e.1648.16074
SEQUENCE:3
DTSTAMP:20260419T221614Z
URL:http://tylerarea.sampleorg.com/events/details/open-house-for-equine-expressions-collection-by-robyn-parker-feehan-16074
END:VEVENT

END:VCALENDAR
