BEGIN:VCALENDAR
VERSION:2.0
PRODID:-//ChamberMaster//Event Calendar 2.0//EN
METHOD:PUBLISH
X-PUBLISHED-TTL:P3D
REFRESH-INTERVAL:P3D
CALSCALE:GREGORIAN
BEGIN:VEVENT
DTSTART:20241109T170000Z
DTEND:20241109T210000Z
X-MICROSOFT-CDO-ALLDAYEVENT:FALSE
SUMMARY:Open House Event
DESCRIPTION:?? Fannin Meadows Open House Event   Saturday\, November 9th | 11 AM   3 PM Come explore Fannin Meadows\, Tyler's newest community\, and discover your future home! Whether you're looking to rent\, lease-to-own\, or take advantage of in-house financing\, we offer options for every need. What to Expect: Turkey Giveaway/Drawing ??   Enter to win a Thanksgiving turkey! Cookies & Punch ????   Enjoy light refreshments while you tour. Tour Our 4 Model Homes   Explore beautiful homes in a welcoming neighborhood. Special Offer: ?? Book your tour in advance and get your holiday gift wrapped while you explore our homes! If you haven't visited yet\, now is the perfect time to see all that Fannin Meadows has to offer. We have something for everyone in this vibrant community. Date: Saturday\, November 9th Time: 11 AM   3 PM Location: Fannin Meadows\, Tyler\, TX Come by\, bring your family\, and let us help you find your perfect home. See you there! ???
X-ALT-DESC;FMTTYPE=text/html:?? Fannin Meadows Open House Event &ndash\; Saturday\, November 9th | 11 AM &ndash\; 3 PM Come explore Fannin Meadows\, Tyler&#39\;s newest community\, and discover your future home! Whether you&#39\;re looking to rent\, lease-to-own\, or take advantage of in-house financing\, we offer options for every need. What to Expect: Turkey Giveaway/Drawing ?? &ndash\; Enter to win a Thanksgiving turkey! Cookies &amp\; Punch ???? &ndash\; Enjoy light refreshments while you tour. Tour Our 4 Model Homes &ndash\; Explore beautiful homes in a welcoming neighborhood. Special Offer: ?? Book your tour in advance and get your holiday gift wrapped while you explore our homes! If you haven&#39\;t visited yet\, now is the perfect time to see all that Fannin Meadows has to offer. We have something for everyone in this vibrant community. Date: Saturday\, November 9th Time: 11 AM &ndash\; 3 PM Location: Fannin Meadows\, Tyler\, TX Come by\, bring your family\, and let us help you find your perfect home. See you there! ???
LOCATION:12277 State Hwy 155 Tyler\, Tx 75708
UID:e.1648.15876
SEQUENCE:3
DTSTAMP:20260420T073141Z
URL:http://tylerarea.sampleorg.com/events/details/open-house-event-11-09-2024-15876
END:VEVENT

END:VCALENDAR
