BEGIN:VCALENDAR
VERSION:2.0
PRODID:-//ChamberMaster//Event Calendar 2.0//EN
METHOD:PUBLISH
X-PUBLISHED-TTL:P3D
REFRESH-INTERVAL:P3D
CALSCALE:GREGORIAN
BEGIN:VEVENT
DTSTART:20241012T140000Z
DTEND:20241012T200000Z
X-MICROSOFT-CDO-ALLDAYEVENT:FALSE
SUMMARY:Open House and Community Garage Sale
DESCRIPTION:?? Join Us for an Open House & Community Garage Sale! ?? We're excited to invite you to explore Fannin Meadows\, a rapidly growing community in Tyler\, Texas! Discover our beautiful brand new 3 & 4 bedroom homes featuring: Spacious 3-car driveways 8x10 storage sheds An exceptional onsite team (just check out our rave reviews!) Event Highlights: ??? Community Garage Sale: Shop for unique treasures while you tour our homes. You might just score an amazing deal! ?? Raffle Drawing: Don't forget to put your name in for a chance to win a special prize! Date: Saturday October 12th\, 2024 Time: 9:00-3pm Location: Fannin Meadows\, Tyler\, TX Come enjoy a day of fun\, find your dream home\, and hunt for bargains! We can't wait to see you there!
X-ALT-DESC;FMTTYPE=text/html:?? Join Us for an Open House &amp\; Community Garage Sale! ?? We&rsquo\;re excited to invite you to explore Fannin Meadows\, a rapidly growing community in Tyler\, Texas! Discover our beautiful brand new 3 &amp\; 4 bedroom homes featuring: Spacious 3-car driveways 8x10 storage sheds An exceptional onsite team (just check out our rave reviews!) Event Highlights: ??? Community Garage Sale: Shop for unique treasures while you tour our homes. You might just score an amazing deal! ?? Raffle Drawing: Don&rsquo\;t forget to put your name in for a chance to win a special prize! Date: Saturday October 12th\, 2024 Time: 9:00-3pm Location: Fannin Meadows\, Tyler\, TX Come enjoy a day of fun\, find your dream home\, and hunt for bargains! We can&rsquo\;t wait to see you there!
LOCATION:12277 State Hwy 155 Tyler\, Tx 75708
UID:e.1648.15847
SEQUENCE:3
DTSTAMP:20260420T090304Z
URL:http://tylerarea.sampleorg.com/events/details/open-house-and-community-garage-sale-15847
END:VEVENT

END:VCALENDAR
