BEGIN:VCALENDAR
VERSION:2.0
PRODID:-//ChamberMaster//Event Calendar 2.0//EN
METHOD:PUBLISH
X-PUBLISHED-TTL:P3D
REFRESH-INTERVAL:P3D
CALSCALE:GREGORIAN
BEGIN:VEVENT
DTSTART:20251018T200000Z
DTEND:20251019T013000Z
X-MICROSOFT-CDO-ALLDAYEVENT:FALSE
SUMMARY:Oktopurrfest
DESCRIPTION:Join us for a fun filled afternoon and evening that combines cars\, trucks\, cycles\, mahjong and cats at one of Tyler's most exciting venues! The feline centric celebration features delicious fall fare with a German-ish theme cooked on the grill by SOLA BREAD! Bring the family and enjoy live music throughout the event\, raffles\, door prizes\, silent auction and vendor booths in the covered pavilion and beer garden area. Great area for kids to run and play too! The "Cat Smash Fever" beer label contest winner will be unveiled!! And...the 2025 Feline Festmeister will be crowned. Unique and coveted awards will be given to the top 3 beer label winners and the Festmeister! Oktopurrfest event/meal ticket $25 ~ Kids hot dog event/meal ticket $7 ~ must purchase tickets in advance  OKTOPURRFEST EVENT SCHEDULE - OCTOBER 18\, 2025 3:00 - 5:00 Mahjong Open Play 3:00 - 8:30 Car\, Truck & Cycle Show 3:00 - 8:30 Vendor Booths 4:00 - 6:00 Paws & Claws Pet Costume contest 5:00             Show Entries Parked 5:00             Show Judging Begins 6:00 - 8:30 Meal & Awards 7:30             Silent Auction Ends 8:30 to ?? Bands & Fun Continues For more information go to the event website: https://givebutter.com/c/Oktopurrfest
X-ALT-DESC;FMTTYPE=text/html:Join us for a fun filled afternoon and evening that combines cars\, trucks\, cycles\, mahjong and cats at one of Tyler&#39\;s most exciting venues! The feline centric celebration features delicious fall fare with a German-ish theme cooked on the grill by SOLA BREAD! Bring the family and enjoy live music throughout the event\, raffles\, door prizes\, silent auction and vendor booths in the covered pavilion and beer garden area. Great area for kids to run and play too! The &quot\;Cat Smash Fever&quot\; beer label contest winner will be unveiled!! And...the 2025 Feline Festmeister will be crowned. Unique and coveted awards will be given to the top 3 beer label winners and the Festmeister! Oktopurrfest event/meal ticket $25 ~ Kids hot dog event/meal ticket $7 ~ must purchase tickets in advance&nbsp\; OKTOPURRFEST EVENT SCHEDULE - OCTOBER 18\, 2025 3:00 - 5:00 Mahjong Open Play 3:00 - 8:30 Car\, Truck &amp\; Cycle Show 3:00 - 8:30 Vendor Booths 4:00 - 6:00 Paws &amp\; Claws Pet Costume contest 5:00&nbsp\; &nbsp\; &nbsp\; &nbsp\; &nbsp\; &nbsp\; &nbsp\;Show Entries Parked 5:00&nbsp\; &nbsp\; &nbsp\; &nbsp\; &nbsp\; &nbsp\; &nbsp\;Show Judging Begins 6:00 - 8:30 Meal &amp\; Awards 7:30&nbsp\; &nbsp\; &nbsp\; &nbsp\; &nbsp\; &nbsp\; &nbsp\;Silent Auction Ends 8:30 to ?? Bands &amp\; Fun Continues For more information go to the event website: https://givebutter.com/c/Oktopurrfest
LOCATION:True Vine Brewing Company Tyler TX
UID:e.1648.16212
SEQUENCE:3
DTSTAMP:20260419T155651Z
URL:http://tylerarea.sampleorg.com/events/details/oktopurrfest-16212
END:VEVENT

END:VCALENDAR
