BEGIN:VCALENDAR
VERSION:2.0
PRODID:-//ChamberMaster//Event Calendar 2.0//EN
METHOD:PUBLISH
X-PUBLISHED-TTL:P3D
REFRESH-INTERVAL:P3D
CALSCALE:GREGORIAN
BEGIN:VEVENT
DTSTART:20241017T213000Z
DTEND:20241017T233000Z
X-MICROSOFT-CDO-ALLDAYEVENT:FALSE
SUMMARY:OHAYO SUSHI NETWORKING!
DESCRIPTION:SUSHI & NETWORKING!\n\nJoin us for a special Networking Hour at Ohayo Sushi in Tyler\, Texas! This is the perfect opportunity to enjoy delicious sushi\, unwind after work\, and connect with fellow professionals in a relaxed\, friendly environment.\n\nWhether you're new to the area\, looking to expand your business network\, or just love sushi\, this event is for you!\n\nWho's Invited:\n\nEveryone! Bring your colleagues\, friends\, or come solo to meet new people. No formal attire required just bring your business cards and a smile
X-ALT-DESC;FMTTYPE=text/html:<span style="font-family:comic sans ms\;"><span style="font-size:18px\;">SUSHI &amp\; NETWORKING!<br />\nJoin us for a special Networking Hour at Ohayo Sushi in Tyler\, Texas! This is the perfect opportunity to enjoy delicious sushi\, unwind after work\, and connect with fellow professionals in a relaxed\, friendly environment.<br />\nWhether you&#39\;re new to the area\, looking to expand your business network\, or just love sushi\, this event is for you!<br />\nWho&#39\;s Invited:<br />\nEveryone! Bring your colleagues\, friends\, or come solo to meet new people. No formal attire required&mdash\;just bring your business cards and a smile</span></span>
LOCATION:OHAYA SUSHI 6205 S. BROADWAY AVENUE TYLER 75703
UID:e.1648.15849
SEQUENCE:3
DTSTAMP:20260420T090416Z
URL:http://tylerarea.sampleorg.com/events/details/ohayo-sushi-networking-15849
END:VEVENT

END:VCALENDAR
