BEGIN:VCALENDAR
VERSION:2.0
PRODID:-//ChamberMaster//Event Calendar 2.0//EN
METHOD:PUBLISH
X-PUBLISHED-TTL:P3D
REFRESH-INTERVAL:P3D
CALSCALE:GREGORIAN
BEGIN:VEVENT
DTSTART:20250516T130000Z
DTEND:20250517T190000Z
X-MICROSOFT-CDO-ALLDAYEVENT:FALSE
SUMMARY:O'Malley Alley Cat Rescue Organization Annual Garage Sale Fundraiser
DESCRIPTION:Come Shop For A Cause! 2 warehouses full of furniture\, tools\, books\, toys\, home decor\, towels\, linens\, dishes\, kitchen utensils\, clothing\, shoes - you name it we probably have it!! O'Malley Alley Cat Rescue Organization annual garage sale fundraiser
X-ALT-DESC;FMTTYPE=text/html:Come Shop For A Cause! 2 warehouses full of furniture\, tools\, books\, toys\, home decor\, towels\, linens\, dishes\, kitchen utensils\, clothing\, shoes - you name it we probably have it!! O&#39\;Malley Alley Cat Rescue Organization annual garage sale fundraiser
LOCATION:17968 FM 2493 Space #120 Flint TX Turn off Campbell Road by Anytime Fitness and look for teal blue overhead door
UID:e.1648.16153
SEQUENCE:3
DTSTAMP:20260419T221714Z
URL:http://tylerarea.sampleorg.com/events/details/o-malley-alley-cat-rescue-organization-annual-garage-sale-fundraiser-16153
END:VEVENT

END:VCALENDAR
