BEGIN:VCALENDAR
VERSION:2.0
PRODID:-//ChamberMaster//Event Calendar 2.0//EN
METHOD:PUBLISH
X-PUBLISHED-TTL:P3D
REFRESH-INTERVAL:P3D
CALSCALE:GREGORIAN
BEGIN:VEVENT
DTSTART:20250408T160000Z
DTEND:20250408T180000Z
X-MICROSOFT-CDO-ALLDAYEVENT:FALSE
SUMMARY:Nutrition Lecture
DESCRIPTION:Come hear a presentation from Dr. Maiya Madhura\, assistant professor at UT Tyler School of Health Professions\, about the important role diet plays in overall health. Then learn how to prepare healthy recipes from Kinsey Thompson\, Nutrition Education Manager at East Texas Food Bank.
X-ALT-DESC;FMTTYPE=text/html:Come hear a presentation from Dr. Maiya Madhura\, assistant professor at UT Tyler School of Health Professions\, about the important role diet plays in overall health. Then learn how to prepare healthy recipes from Kinsey Thompson\, Nutrition Education Manager at East Texas Food Bank.
LOCATION:East Texas Food Bank\, 3201 Robertson Drive\, Tyler\, TX 75701
UID:e.1648.16049
SEQUENCE:3
DTSTAMP:20260420T010927Z
URL:http://tylerarea.sampleorg.com/events/details/nutrition-lecture-16049
END:VEVENT

END:VCALENDAR
