BEGIN:VCALENDAR
VERSION:2.0
PRODID:-//ChamberMaster//Event Calendar 2.0//EN
METHOD:PUBLISH
X-PUBLISHED-TTL:P3D
REFRESH-INTERVAL:P3D
CALSCALE:GREGORIAN
BEGIN:VEVENT
DTSTART:20241020T010000Z
DTEND:20241020T200000Z
X-MICROSOFT-CDO-ALLDAYEVENT:FALSE
SUMMARY:NTHJC Hunter Jumper Year End Show
DESCRIPTION:There are three main divisions at a hunter/jumper horse show: hunter\, jumper and equitation. In all three\, a rider guides a horse over a set course of obstacles in a ring. Horse and riders that belong to the North Texas Hunter Jumper Club will compete\, after earning points throughout the show season\, at different levels for a championship. Exciting for all ages to watch.
X-ALT-DESC;FMTTYPE=text/html:There are three main divisions at a hunter/jumper horse show: hunter\, jumper and equitation. In all three\, a rider guides a horse over a set course of obstacles in a ring. Horse and riders that belong to the North Texas Hunter Jumper Club will compete\, after earning points throughout the show season\, at different levels for a championship. Exciting for all ages to watch.
LOCATION:Texas Rose Horse Park
UID:e.1648.15552
SEQUENCE:3
DTSTAMP:20260420T085934Z
URL:http://tylerarea.sampleorg.com/events/details/nthjc-hunter-jumper-year-end-show-15552
END:VEVENT

END:VCALENDAR
