BEGIN:VCALENDAR
VERSION:2.0
PRODID:-//ChamberMaster//Event Calendar 2.0//EN
METHOD:PUBLISH
X-PUBLISHED-TTL:P3D
REFRESH-INTERVAL:P3D
CALSCALE:GREGORIAN
BEGIN:VEVENT
DTSTART:20250305T013000Z
DTEND:20250305T033000Z
X-MICROSOFT-CDO-ALLDAYEVENT:FALSE
SUMMARY:Momix Presents Alice
DESCRIPTION:Momix Presents Alice Tuesday\, March 4\, 2025   7:30 PM Seamlessly blending illusion\, acrobatics\, magic\, and whimsy\, MOMIX sends audiences flying down the rabbit hole in Moses Pendleton's newest creation\, ALICE\, inspired by Lewis Carroll's classic Alice in Wonderland. "I don't intend to retell the whole Alice story" Pendleton says\, "but to use it as a taking off point for invention." Join this dazzling company on a mind-bending adventure\, as Alice encounters time-honored characters including the undulating Caterpillar\, a lobster quadrille\, frenzied White Rabbits\, a mad Queen of Hearts\, and a variety of other surprises. Filled with visual splendor and startling creative movement\, Alice reveals that nothing in MOMIX's world is as it seems!
X-ALT-DESC;FMTTYPE=text/html:Momix Presents Alice Tuesday\, March 4\, 2025 &bull\; 7:30 PM Seamlessly blending illusion\, acrobatics\, magic\, and whimsy\, MOMIX sends audiences flying down the rabbit hole in Moses Pendleton&rsquo\;s newest creation\, ALICE\, inspired by Lewis Carroll&rsquo\;s classic Alice in Wonderland. &ldquo\;I don&rsquo\;t intend to retell the whole Alice story&rdquo\; Pendleton says\, &ldquo\;but to use it as a taking off point for invention.&rdquo\; Join this dazzling company on a mind-bending adventure\, as Alice encounters time-honored characters including the undulating Caterpillar\, a lobster quadrille\, frenzied White Rabbits\, a mad Queen of Hearts\, and a variety of other surprises. Filled with visual splendor and startling creative movement\, Alice reveals that nothing in MOMIX&rsquo\;s world is as it seems!
LOCATION:UT Tyler Cowan Center
UID:e.1648.15755
SEQUENCE:3
DTSTAMP:20260420T025253Z
URL:http://tylerarea.sampleorg.com/events/details/momix-presents-alice-15755
END:VEVENT

END:VCALENDAR
