BEGIN:VCALENDAR
VERSION:2.0
PRODID:-//ChamberMaster//Event Calendar 2.0//EN
METHOD:PUBLISH
X-PUBLISHED-TTL:P3D
REFRESH-INTERVAL:P3D
CALSCALE:GREGORIAN
BEGIN:VEVENT
DTSTART:20250824T030000Z
DTEND:20250824T060000Z
X-MICROSOFT-CDO-ALLDAYEVENT:FALSE
SUMMARY:Moe Seasoning Comedy Show Premier
DESCRIPTION:Saturday\, August 23rd\, Tyler Texas Legend\, Ed Moore is debuting his new Showcase "Moe Seasoning" featuring his favorite Texas Comedians\, Cocktails & After Party with a surprise local favorite DJ. DJ 11:30-12:30 Hard Close 1AM
X-ALT-DESC;FMTTYPE=text/html:Saturday\, August 23rd\, Tyler Texas Legend\, Ed Moore is debuting his new Showcase &quot\;Moe Seasoning&quot\; featuring his favorite Texas Comedians\, Cocktails &amp\; After Party with a surprise local favorite DJ. DJ 11:30-12:30 Hard Close 1AM
LOCATION:1817 N Englewood Ave\, Tyler\, TX 75702
UID:e.1648.16196
SEQUENCE:3
DTSTAMP:20260419T180710Z
URL:http://tylerarea.sampleorg.com/events/details/moe-seasoning-comedy-show-premier-16196
END:VEVENT

END:VCALENDAR
