BEGIN:VCALENDAR
VERSION:2.0
PRODID:-//ChamberMaster//Event Calendar 2.0//EN
METHOD:PUBLISH
X-PUBLISHED-TTL:P3D
REFRESH-INTERVAL:P3D
CALSCALE:GREGORIAN
BEGIN:VEVENT
DTSTART:20240605T200000Z
DTEND:20240606T000000Z
X-MICROSOFT-CDO-ALLDAYEVENT:FALSE
SUMMARY:Mental Health Navigation w/ SocialWorx Advocacy Group
DESCRIPTION:Come visit us at our office for mental health navigation assistance. Make an appointment online to secure your spot for a 45-minute meeting. Appointments can be made here: www.swadvocacy.org. This service is free to the public and includes: 1-on-1 meetings to discuss your mental health journey Assistance with finding providers and resources. Medication/Refill reminders. & More
X-ALT-DESC;FMTTYPE=text/html:Come visit us at our office for mental health navigation assistance. Make an appointment online to secure your spot for a 45-minute meeting. Appointments can be made here: www.swadvocacy.org. This service is free to the public and includes: 1-on-1 meetings to discuss your mental health journey Assistance with finding providers and resources. Medication/Refill reminders. &amp\; More
LOCATION:2124 S Donnybrook Ave
UID:e.1648.15716
SEQUENCE:3
DTSTAMP:20260420T145408Z
URL:http://tylerarea.sampleorg.com/events/details/mental-health-navigation-w-socialworx-advocacy-group-15716
END:VEVENT

END:VCALENDAR
