BEGIN:VCALENDAR
VERSION:2.0
PRODID:-//ChamberMaster//Event Calendar 2.0//EN
METHOD:PUBLISH
X-PUBLISHED-TTL:P3D
REFRESH-INTERVAL:P3D
CALSCALE:GREGORIAN
BEGIN:VEVENT
DTSTART:20240925T200000Z
DTEND:20240926T000000Z
X-MICROSOFT-CDO-ALLDAYEVENT:FALSE
SUMMARY:Mental Health Assistance
DESCRIPTION:Come to our office to get help finding a mental health provider and more!
X-ALT-DESC;FMTTYPE=text/html:Come to our office to get help finding a mental health provider and more!
LOCATION:2124 S Donnybrook Ave #103 Tyler TX 75701
UID:e.1648.15824
SEQUENCE:3
DTSTAMP:20260420T120143Z
URL:http://tylerarea.sampleorg.com/events/details/mental-health-assistance-15824
END:VEVENT

END:VCALENDAR
