BEGIN:VCALENDAR
VERSION:2.0
PRODID:-//ChamberMaster//Event Calendar 2.0//EN
METHOD:PUBLISH
X-PUBLISHED-TTL:P3D
REFRESH-INTERVAL:P3D
CALSCALE:GREGORIAN
BEGIN:VEVENT
DTSTART:20250207T013000Z
DTEND:20250207T033000Z
X-MICROSOFT-CDO-ALLDAYEVENT:FALSE
SUMMARY:Menopause The Musical 2: Cruising Through ‘The Change’®
DESCRIPTION:Menopause The Musical 2: Cruising Through 'The Change'  Thursday\, February 6\, 2025   7:30 PM All aboard\, sisters! The hysterical sequel to the smash-hit Menopause The Musical  is finally here! Five years after their chance encounter in a department store\, we set sail with our beloved ladies for more high jinks on the high seas. MENOPAUSE THE MUSICAL 2: CRUISING THROUGH "THE CHANGE" is a hilarious and heartfelt look at the joys of menopause and friendship   plus hot flashes\, mood swings\, and memory lapses! Join us on a trip of self-discovery\, backed by a new soundtrack of toe-tapping parodied hits from the 70s\, 80s and 90s. For these four ladies\, menopause was not the end\, but the beginning of a beautiful friendship where love conquers all\, and friendships never fail. Mature content and language
X-ALT-DESC;FMTTYPE=text/html:Menopause The Musical 2: Cruising Through &lsquo\;The Change&rsquo\;&reg\; Thursday\, February 6\, 2025 &bull\; 7:30 PM All aboard\, sisters! The hysterical sequel to the smash-hit Menopause The Musical&reg\; is finally here! Five years after their chance encounter in a department store\, we set sail with our beloved ladies for more high jinks on the high seas. MENOPAUSE THE MUSICAL 2: CRUISING THROUGH &ldquo\;THE CHANGE&rdquo\; is a hilarious and heartfelt look at the joys of menopause and friendship &mdash\; plus hot flashes\, mood swings\, and memory lapses! Join us on a trip of self-discovery\, backed by a new soundtrack of toe-tapping parodied hits from the 70s\, 80s and 90s. For these four ladies\, menopause was not the end\, but the beginning of a beautiful friendship where love conquers all\, and friendships never fail. Mature content and language
LOCATION:UT Tyler Cowan Center
UID:e.1648.15760
SEQUENCE:3
DTSTAMP:20260420T025258Z
URL:http://tylerarea.sampleorg.com/events/details/menopause-the-musical-2-cruising-through-the-change-15760
END:VEVENT

END:VCALENDAR
