BEGIN:VCALENDAR
VERSION:2.0
PRODID:-//ChamberMaster//Event Calendar 2.0//EN
METHOD:PUBLISH
X-PUBLISHED-TTL:P3D
REFRESH-INTERVAL:P3D
CALSCALE:GREGORIAN
BEGIN:VEVENT
DTSTART:20240919T230000Z
DTEND:20240920T000000Z
X-MICROSOFT-CDO-ALLDAYEVENT:FALSE
SUMMARY:Medicare & You Educational Seminar
DESCRIPTION:Educational seminar explaining how Medicare works\, how to apply for Medicare and what different types of supplemental insurance are available. The event is only for educational purposes\, no plan-specific benefits will be discussed.
X-ALT-DESC;FMTTYPE=text/html:Educational seminar explaining how Medicare works\, how to apply for Medicare and what different types of supplemental insurance are available. The event is only for educational purposes\, no plan-specific benefits will be discussed.
LOCATION:Republic Icehouse 3807 University Blvd Tyler\, tx. 75701
UID:e.1648.15821
SEQUENCE:3
DTSTAMP:20260420T102425Z
URL:http://tylerarea.sampleorg.com/events/details/medicare-you-educational-seminar-15821
END:VEVENT

END:VCALENDAR
