BEGIN:VCALENDAR
VERSION:2.0
PRODID:-//ChamberMaster//Event Calendar 2.0//EN
METHOD:PUBLISH
X-PUBLISHED-TTL:P3D
REFRESH-INTERVAL:P3D
CALSCALE:GREGORIAN
BEGIN:VEVENT
DTSTART:20240821T160000Z
DTEND:20240821T173000Z
X-MICROSOFT-CDO-ALLDAYEVENT:FALSE
SUMMARY:Medicare 101
DESCRIPTION:Come join Melissa with CHRISTUS Health Plan for a Medicare 101 Learning Experience and enjoy Chic Fil A on us! Please RSVP Melissa @ 903-630-8207 and bring a friend if you'd like!
X-ALT-DESC;FMTTYPE=text/html:Come join Melissa with CHRISTUS Health Plan for a Medicare 101 Learning Experience and enjoy Chic Fil A on us! Please RSVP Melissa @ 903-630-8207 and bring a friend if you&#39\;d like!
LOCATION:CHRISTUS Health Plan Office 5825 Old Bullard Road Suite 400 Tyler\, TX 75703
UID:e.1648.15796
SEQUENCE:3
DTSTAMP:20260420T130552Z
URL:http://tylerarea.sampleorg.com/events/details/medicare-101-15796
END:VEVENT

END:VCALENDAR
