BEGIN:VCALENDAR
VERSION:2.0
PRODID:-//ChamberMaster//Event Calendar 2.0//EN
METHOD:PUBLISH
X-PUBLISHED-TTL:P3D
REFRESH-INTERVAL:P3D
CALSCALE:GREGORIAN
BEGIN:VEVENT
DTSTART:20240601T133000Z
DTEND:20240601T170000Z
X-MICROSOFT-CDO-ALLDAYEVENT:FALSE
SUMMARY:March for Babies “A Mother of a Movement”
DESCRIPTION:Join Zeta Phi Beta Sorority\, Incorporated\, Zeta Kappa Zeta Chapter in their March for Babies Walk this year. This walk for Moms and Babies is held annually to educate and inform local residents the negative impact of Preterm Births\, Infant Mortality and other health disparities in the community. The U.S. remains among the most dangerous developed nations for childbirth\, especially for women and babies of color. It's unacceptable. Together we can close the health equity gap and end preventable maternal and infant risks and death. Your support is so important to giving every family the best possible start.
X-ALT-DESC;FMTTYPE=text/html:Join Zeta Phi Beta Sorority\, Incorporated\, Zeta Kappa Zeta Chapter in their March for Babies Walk this year. This walk for Moms and Babies is held annually to educate and inform local residents the negative impact of Preterm Births\, Infant Mortality and other health disparities in the community. The U.S. remains among the most dangerous developed nations for childbirth\, especially for women and babies of color. It&#39\;s unacceptable. Together we can close the health equity gap and end preventable maternal and infant risks and death. Your support is so important to giving every family the best possible start.
LOCATION:Southside Park Rose Rudman Trail 455 Shiloh Road~Tyler\, Texas 75703
UID:e.1648.15707
SEQUENCE:3
DTSTAMP:20260420T145336Z
URL:http://tylerarea.sampleorg.com/events/details/march-for-babies-a-mother-of-a-movement-15707
END:VEVENT

END:VCALENDAR
