BEGIN:VCALENDAR
VERSION:2.0
PRODID:-//ChamberMaster//Event Calendar 2.0//EN
METHOD:PUBLISH
X-PUBLISHED-TTL:P3D
REFRESH-INTERVAL:P3D
CALSCALE:GREGORIAN
BEGIN:VEVENT
DTSTART:20240720T180000Z
DTEND:20240720T230000Z
X-MICROSOFT-CDO-ALLDAYEVENT:FALSE
SUMMARY:Love Thy City
DESCRIPTION:Love Thy City of East Texas (LTC) is a community-driven religious nonprofit that is fueled by love\, compassion\, and faith for the Tyler community and surrounding areas. ????????LOVE THY CITY DAY! What is Love Thy City Day? What's happening on July 20th? Local churches\, Businesses and Non-Profit Organizations are coming together to show spiritual and tangible LOVE to the City of Tyler citizens and surrounding areas. Experience Christmas in July with Special Giveaways like: FREE bikes\, FREE scooters\, FREE Backpacks and school supplies  Free Food Truck Vouchers Sign Up to attend this free event and reserve your family place at www.lovethycity.org
X-ALT-DESC;FMTTYPE=text/html:Love Thy City of East Texas (LTC) is a community-driven religious nonprofit that is fueled by love\, compassion\, and faith for the Tyler community and surrounding areas. ????????LOVE THY CITY DAY! What is Love Thy City Day? What&rsquo\;s happening on July 20th? Local churches\, Businesses and Non-Profit Organizations are coming together to show spiritual and tangible LOVE to the City of Tyler citizens and surrounding areas. Experience Christmas in July with Special Giveaways like: FREE bikes\, FREE scooters\, FREE Backpacks and school supplies&hellip\; Free Food Truck Vouchers Sign Up to attend this free event and reserve your family place at www.lovethycity.org
LOCATION:W.T. Brookshire Conference Center
UID:e.1648.15693
SEQUENCE:3
DTSTAMP:20260420T144421Z
URL:http://tylerarea.sampleorg.com/events/details/love-thy-city-15693
END:VEVENT

END:VCALENDAR
