BEGIN:VCALENDAR
VERSION:2.0
PRODID:-//ChamberMaster//Event Calendar 2.0//EN
METHOD:PUBLISH
X-PUBLISHED-TTL:P3D
REFRESH-INTERVAL:P3D
CALSCALE:GREGORIAN
BEGIN:VEVENT
DTSTART:20250824T000000Z
DTEND:20250824T023000Z
X-MICROSOFT-CDO-ALLDAYEVENT:FALSE
SUMMARY:Loudmouths Anonymous
DESCRIPTION:LMA EPISODE 2 Our Most Requested Show has Returned! Featuring Mitch Burrow (Punchlines & Punishments) Genevieve (7x KT Performer & Full Time at the Comedy Mothership) & Mikey Biggs (Full Time at Redban's Sunset Strip) Juanita (Kill Tony & Jim Carr favorite)\, Matt Lacour\, Glenn Stuart\, Felix & More! Cocktails and comedy benefiting TAG+!
X-ALT-DESC;FMTTYPE=text/html:LMA EPISODE 2 Our Most Requested Show has Returned! Featuring Mitch Burrow (Punchlines &amp\; Punishments) Genevieve (7x KT Performer &amp\; Full Time at the Comedy Mothership) &amp\; Mikey Biggs (Full Time at Redban&#39\;s Sunset Strip) Juanita (Kill Tony &amp\; Jim Carr favorite)\, Matt Lacour\, Glenn Stuart\, Felix &amp\; More! Cocktails and comedy benefiting TAG+!
LOCATION:1817 N Englewood Ave\, Tyler\, TX 75702 Doors 7 Show 7:30 - 9:30
UID:e.1648.16195
SEQUENCE:3
DTSTAMP:20260419T190257Z
URL:http://tylerarea.sampleorg.com/events/details/loudmouths-anonymous-16195
END:VEVENT

END:VCALENDAR
