BEGIN:VCALENDAR
VERSION:2.0
PRODID:-//ChamberMaster//Event Calendar 2.0//EN
METHOD:PUBLISH
X-PUBLISHED-TTL:P3D
REFRESH-INTERVAL:P3D
CALSCALE:GREGORIAN
BEGIN:VEVENT
DTSTART:20250219T190000Z
DTEND:20250219T210000Z
X-MICROSOFT-CDO-ALLDAYEVENT:FALSE
SUMMARY:Logic Models
DESCRIPTION:Learn how to develop a visual representation/ "road map" of a program or organization.
X-ALT-DESC;FMTTYPE=text/html:Learn how to develop a visual representation/ &quot\;road map&quot\; of a program or organization.
LOCATION:East Texas Center for Nonprofits 911 S Broadway\, Tyler\, TX
UID:e.1648.15981
SEQUENCE:3
DTSTAMP:20260420T024551Z
URL:http://tylerarea.sampleorg.com/events/details/logic-models-15981
END:VEVENT

END:VCALENDAR
