BEGIN:VCALENDAR
VERSION:2.0
PRODID:-//ChamberMaster//Event Calendar 2.0//EN
METHOD:PUBLISH
X-PUBLISHED-TTL:P3D
REFRESH-INTERVAL:P3D
CALSCALE:GREGORIAN
BEGIN:VEVENT
DTSTART:20241208T203000Z
DTEND:20241208T233000Z
X-MICROSOFT-CDO-ALLDAYEVENT:FALSE
SUMMARY:LOCAL Holiday Markrt
DESCRIPTION:LOCAL Car Wash wants to invite the community to join us for a two day Holiday Market! December 7th from 2-6pm - we will have FREE pictures with the GRINCH!! - Local Vendors including: Project Lean Nation RiseRX fitness Sew Martinez Three Angels Pickled Vegetables Handmade by Lo Drummond Maple Farms Edward's Produce Sweet spuds Coffey's Lemonade Company Jade & Clay Co Brush & Bottle December 8th from 2:30-5:30PM -we will have FREE pictures with SANTA! - Local vendors including: Sip N' Drinks Rose City Freeze Dry Project Lean Nation RiseRX Fitness Old White House Candle Co Handmade by Lo Edward's Produce Coffey's Lemonade Company Come join us and Support Local Businesses!
X-ALT-DESC;FMTTYPE=text/html:LOCAL Car Wash wants to invite the community to join us for a two day Holiday Market! December 7th from 2-6pm - we will have FREE pictures with the GRINCH!! - Local Vendors including: Project Lean Nation RiseRX fitness Sew Martinez Three Angels Pickled Vegetables Handmade by Lo Drummond Maple Farms Edward&rsquo\;s Produce Sweet spuds Coffey&rsquo\;s Lemonade Company Jade &amp\; Clay Co Brush &amp\; Bottle December 8th from 2:30-5:30PM -we will have FREE pictures with SANTA! - Local vendors including: Sip N&rsquo\; Drinks Rose City Freeze Dry Project Lean Nation RiseRX Fitness Old White House Candle Co Handmade by Lo Edward&rsquo\;s Produce Coffey&rsquo\;s Lemonade Company Come join us and Support Local Businesses!
LOCATION:7671 s broadway Ave
UID:e.1648.15868
SEQUENCE:3
DTSTAMP:20260420T061450Z
URL:http://tylerarea.sampleorg.com/events/details/local-holiday-markrt-15868
END:VEVENT

END:VCALENDAR
