BEGIN:VCALENDAR
VERSION:2.0
PRODID:-//ChamberMaster//Event Calendar 2.0//EN
METHOD:PUBLISH
X-PUBLISHED-TTL:P3D
REFRESH-INTERVAL:P3D
CALSCALE:GREGORIAN
BEGIN:VEVENT
DTSTART:20250215T230000Z
DTEND:20250216T040000Z
X-MICROSOFT-CDO-ALLDAYEVENT:FALSE
SUMMARY:Live Comedy & Latin Cuisine
DESCRIPTION:Welcome To Cheesin' Fest Comedy Valentine's Dinner At Villa Montez! We're Bringing A Night Like No Other For Our Local Comedy Fans And Foodies. This Ticket Includes: Three Courses Of Fine Latin Cuisine From Villa Montez's Valentine's Menu. 20% Gratuity For The Staff Is Included In Your Ticket Purchase Price. This Night Of Romance And Laughter Will Be Ran By Three Texas Comedian Couples: Deric Poston & Sam Lopez Will Be Coming From Hosting Kill Tony\, Bottom Of The Barrel\, The Solid Show And More In ATX. Sagan Butler & Jacob Cantor\, Both Kill Tony Contestants\, Will Be Gracing Our Stage From Crushing All Over DFW. Cheesin' Fest Creators Toni Robinson & Ed Moore Will Be Performing & Hosting Your Evening Of Endless Laughs. Cheesin' Fest Wants Everyone Attending Our Shows To Spend Each Moment Enjoying Yourselves\, Not Worrying About A Minimum. We Have Attempted To Limit Any Interruptions Throughout Dinner. Please Arrive At Least 30 Minutes Early To Connect With Your Server And Confirm Your Courses. Let Us Know How We Could Improve The Evening For Your Loved Ones As Soon As Possible! Call (903)592-9696 Text (903)941-1757 3324 Old Henderson Hwy\, Tyler\, TX 75703
X-ALT-DESC;FMTTYPE=text/html:Welcome To Cheesin&#39\; Fest Comedy Valentine&#39\;s Dinner At Villa Montez! We&#39\;re Bringing A Night Like No Other For Our Local Comedy Fans And Foodies. This Ticket Includes: Three Courses Of Fine Latin Cuisine From Villa Montez&#39\;s Valentine&#39\;s Menu. 20% Gratuity For The Staff Is Included In Your Ticket Purchase Price. This Night Of Romance And Laughter Will Be Ran By Three Texas Comedian Couples: Deric Poston &amp\; Sam Lopez Will Be Coming From Hosting Kill Tony\, Bottom Of The Barrel\, The Solid Show And More In ATX. Sagan Butler &amp\; Jacob Cantor\, Both Kill Tony Contestants\, Will Be Gracing Our Stage From Crushing All Over DFW. Cheesin&#39\; Fest Creators Toni Robinson &amp\; Ed Moore Will Be Performing &amp\; Hosting Your Evening Of Endless Laughs. Cheesin&#39\; Fest Wants Everyone Attending Our Shows To Spend Each Moment Enjoying Yourselves\, Not Worrying About A Minimum. We Have Attempted To Limit Any Interruptions Throughout Dinner. Please Arrive At Least 30 Minutes Early To Connect With Your Server And Confirm Your Courses. Let Us Know How We Could Improve The Evening For Your Loved Ones As Soon As Possible! Call (903)592-9696 Text (903)941-1757 3324 Old Henderson Hwy\, Tyler\, TX 75703
LOCATION:Villa Montez 3324 Old Henderson Hwy Tyler Texas 75703
UID:e.1648.15999
SEQUENCE:3
DTSTAMP:20260420T025124Z
URL:http://tylerarea.sampleorg.com/events/details/live-comedy-latin-cuisine-15999
END:VEVENT

END:VCALENDAR
