BEGIN:VCALENDAR
VERSION:2.0
PRODID:-//ChamberMaster//Event Calendar 2.0//EN
METHOD:PUBLISH
X-PUBLISHED-TTL:P3D
REFRESH-INTERVAL:P3D
CALSCALE:GREGORIAN
BEGIN:VEVENT
DTSTART:20250216T170000Z
DTEND:20250216T210000Z
X-MICROSOFT-CDO-ALLDAYEVENT:FALSE
SUMMARY:Live Comedy & Brunch
DESCRIPTION:Cheesin' Fest Comedy is sealing our weekend of Love & Comedy with a Sunday Funday that benefits our community! 11AM - 3PM The Greenhouse at The Grove Kitchen & Gardens 3500 Old Jacksonville Hwy\, Tyler\, TX 75701 Hosted by Toni Robinson Featuring Comedy Legend Reier Cammerman of Joe Rogan & Ron White's The Comedy Mothership as well as Redban's Sunset Strip. Catch two time Kill Tony Star Juanita and Matt LaCour of Austin Texas bring the house down with Ed Moore\, Toni Robinson\, Joie Savage & Oliver Twist of Cheesin' Fest Comedy. Photos by Jacy Watson Benefiting Two Fantastic Local Non-Profits\, TAG+ & The Glass House Text (903)941-1757 for more info
X-ALT-DESC;FMTTYPE=text/html:Cheesin&#39\; Fest Comedy is sealing our weekend of Love &amp\; Comedy with a Sunday Funday that benefits our community! 11AM - 3PM The Greenhouse at The Grove Kitchen &amp\; Gardens 3500 Old Jacksonville Hwy\, Tyler\, TX 75701 Hosted by Toni Robinson Featuring Comedy Legend Reier Cammerman of Joe Rogan &amp\; Ron White&#39\;s The Comedy Mothership as well as Redban&#39\;s Sunset Strip. Catch two time Kill Tony Star Juanita and Matt LaCour of Austin Texas bring the house down with Ed Moore\, Toni Robinson\, Joie Savage &amp\; Oliver Twist of Cheesin&#39\; Fest Comedy. Photos by Jacy Watson Benefiting Two Fantastic Local Non-Profits\, TAG+ &amp\; The Glass House Text (903)941-1757 for more info
LOCATION:Grove Kitchen & Gardens 3500 Old Jacksonville Hwy\, Tyler\, TX 75701
UID:e.1648.15998
SEQUENCE:3
DTSTAMP:20260420T024653Z
URL:http://tylerarea.sampleorg.com/events/details/live-comedy-brunch-15998
END:VEVENT

END:VCALENDAR
