BEGIN:VCALENDAR
VERSION:2.0
PRODID:-//ChamberMaster//Event Calendar 2.0//EN
METHOD:PUBLISH
X-PUBLISHED-TTL:P3D
REFRESH-INTERVAL:P3D
CALSCALE:GREGORIAN
BEGIN:VEVENT
DTSTART:20250407T220000Z
DTEND:20250408T040000Z
X-MICROSOFT-CDO-ALLDAYEVENT:FALSE
SUMMARY:Lindale Chamber of Commerce Banquet
DESCRIPTION:LACC Annual Banquet & Auction 2025
X-ALT-DESC;FMTTYPE=text/html:LACC Annual Banquet &amp\; Auction 2025
LOCATION:Texas Rose Horse Park
UID:e.1648.15926
SEQUENCE:3
DTSTAMP:20260419T235251Z
URL:http://tylerarea.sampleorg.com/events/details/lindale-chamber-of-commerce-banquet-15926
END:VEVENT

END:VCALENDAR
