BEGIN:VCALENDAR
VERSION:2.0
PRODID:-//ChamberMaster//Event Calendar 2.0//EN
METHOD:PUBLISH
X-PUBLISHED-TTL:P3D
REFRESH-INTERVAL:P3D
CALSCALE:GREGORIAN
BEGIN:VEVENT
DTSTART:20250312T150000Z
DTEND:20250312T190000Z
X-MICROSOFT-CDO-ALLDAYEVENT:FALSE
SUMMARY:Lean Training & Plant Tour
DESCRIPTION:Free Lean Training and Plant Tour Come join Come join us for a day of hands-on learning at Horizon Industries with TMAC\, the Texas Manufacturing Assistance Center! Our Lean Training workshop will focus on the below topics and will also include a plant tour of Horizon Industries\, the manufacturing division of East Texas Lighthouse for the Blind. Discovering the 8 wastes of Lean Learn how to identify and eliminate waste to make your processes more efficient. Process Breakdown Method Overview Learn how to break down a complex process to identify tasks that are adding value and those that should be eliminated\, reduced\, or simplified. Lunch will be provided from Stanley's BBQ. Don't miss this opportunity to network with like-minded professionals and learn some key concepts of Lean manufacturing. Reserve your spot today!
X-ALT-DESC;FMTTYPE=text/html:Free Lean Training and Plant Tour Come join Come join us for a day of hands-on learning at Horizon Industries with TMAC\, the Texas Manufacturing Assistance Center! Our Lean Training workshop will focus on the below topics and will also include a plant tour of Horizon Industries\, the manufacturing division of East Texas Lighthouse for the Blind. Discovering the 8 wastes of Lean Learn how to identify and eliminate waste to make your processes more efficient. Process Breakdown Method Overview Learn how to break down a complex process to identify tasks that are adding value and those that should be eliminated\, reduced\, or simplified. Lunch will be provided from Stanley&#39\;s BBQ. Don&#39\;t miss this opportunity to network with like-minded professionals and learn some key concepts of Lean manufacturing. Reserve your spot today!
LOCATION:Horizon Industries 500 N Bois D Arc Ave. Tyler\, TX 75702
UID:e.1648.16003
SEQUENCE:3
DTSTAMP:20260420T010927Z
URL:http://tylerarea.sampleorg.com/events/details/lean-training-plant-tour-16003
END:VEVENT

END:VCALENDAR
