BEGIN:VCALENDAR
VERSION:2.0
PRODID:-//ChamberMaster//Event Calendar 2.0//EN
METHOD:PUBLISH
X-PUBLISHED-TTL:P3D
REFRESH-INTERVAL:P3D
CALSCALE:GREGORIAN
BEGIN:VEVENT
DTSTART:20241006T003000Z
DTEND:20241006T020000Z
X-MICROSOFT-CDO-ALLDAYEVENT:FALSE
SUMMARY:Lance Burton Master Magician & Friends
DESCRIPTION:Lance Burton Master Magician & Friends Saturday\, October 5\, 2024   7:30 PM LANCE BURTON is widely considered by his peers to be the greatest stage Magician of the past century. As magic historian Mike Caveney states\, "Take every Magician in the world\, line them up and give them each twelve minutes...Lance Wins!" With numerous TV appearances\, Lance is best known for his Las Vegas career   having performed an astounding fifteen thousand shows for over fifteen million fans. At this performance\, expect a mix of illusions\, sleight of hand\, audience participation\, and amazing guest stars. A Las Vegas caliber show suitable for the whole family!
X-ALT-DESC;FMTTYPE=text/html:Lance Burton Master Magician &amp\; Friends Saturday\, October 5\, 2024 &bull\; 7:30 PM LANCE BURTON is widely considered by his peers to be the greatest stage Magician of the past century. As magic historian Mike Caveney states\, &ldquo\;Take every Magician in the world\, line them up and give them each twelve minutes...Lance Wins!&rdquo\; With numerous TV appearances\, Lance is best known for his Las Vegas career &ndash\; having performed an astounding fifteen thousand shows for over fifteen million fans. At this performance\, expect a mix of illusions\, sleight of hand\, audience participation\, and amazing guest stars. A Las Vegas caliber show suitable for the whole family!
LOCATION:UT Tyler Cowan Center
UID:e.1648.15749
SEQUENCE:3
DTSTAMP:20260420T090025Z
URL:http://tylerarea.sampleorg.com/events/details/lance-burton-master-magician-friends-15749
END:VEVENT

END:VCALENDAR
