BEGIN:VCALENDAR
VERSION:2.0
PRODID:-//ChamberMaster//Event Calendar 2.0//EN
METHOD:PUBLISH
X-PUBLISHED-TTL:P3D
REFRESH-INTERVAL:P3D
CALSCALE:GREGORIAN
BEGIN:VEVENT
DTSTART:20250901T190000Z
DTEND:20250901T230000Z
X-MICROSOFT-CDO-ALLDAYEVENT:FALSE
SUMMARY:Labor Day Blast
DESCRIPTION:Labor Day Blast is a fun filled time for the whole family. Starts at 2pm on Labor Day. We have a carnival like atmosphere with bounce houses\, dunkin booth\, face painting\, petting zoo and so much more. We will serve a Bar-B-Que dinner with all the fixings at 4pm. We will have door prizes and just a lot of good clean fun.
X-ALT-DESC;FMTTYPE=text/html:Labor Day Blast is a fun filled time for the whole family. Starts at 2pm on Labor Day. We have a carnival like atmosphere with bounce houses\, dunkin booth\, face painting\, petting zoo and so much more. We will serve a Bar-B-Que dinner with all the fixings at 4pm. We will have door prizes and just a lot of good clean fun.
LOCATION:Calvary Commission Campus 15983 CR 4140 Lindale Tx 75771
UID:e.1648.16198
SEQUENCE:3
DTSTAMP:20260419T155311Z
URL:http://tylerarea.sampleorg.com/events/details/labor-day-blast-16198
END:VEVENT

END:VCALENDAR
