BEGIN:VCALENDAR
VERSION:2.0
PRODID:-//ChamberMaster//Event Calendar 2.0//EN
METHOD:PUBLISH
X-PUBLISHED-TTL:P3D
REFRESH-INTERVAL:P3D
CALSCALE:GREGORIAN
BEGIN:VEVENT
DTSTART:20250330T210000Z
DTEND:20250331T020000Z
X-MICROSOFT-CDO-ALLDAYEVENT:FALSE
SUMMARY:Kill Tony Bucket Reunion
DESCRIPTION:Sunday\, March 30th\, 2025 Liberty Hall Theater 103 E. Erwin St\, Tyler\, TX 75702 Cheesin' Fest Comedy is bringing the first Kill Tony Bucket Reunion to Tyler Texas with headliner Ric Diez! Ric Diez is an enigmatic Spanish one-liner comedian\, a maestro of the absurd and the dark. With a razor-sharp wit and a penchant for the unconventional\, he crafts jokes that probe the depths of the human psyche\, leaving audiences in stitches while contemplating life's complexities. 3:30 Doors Open 4:00 Bucket Reunion Segment 6:00 Intermission 6:45 Doors Open 7:00 Ric Diez Segment 9:00 Doors Close
X-ALT-DESC;FMTTYPE=text/html:Sunday\, March 30th\, 2025 Liberty Hall Theater 103 E. Erwin St\, Tyler\, TX 75702 Cheesin&#39\; Fest Comedy is bringing the first Kill Tony Bucket Reunion to Tyler Texas with headliner Ric Diez! Ric Diez is an enigmatic Spanish one-liner comedian\, a maestro of the absurd and the dark. With a razor-sharp wit and a penchant for the unconventional\, he crafts jokes that probe the depths of the human psyche\, leaving audiences in stitches while contemplating life&#39\;s complexities. 3:30 Doors Open 4:00 Bucket Reunion Segment 6:00 Intermission 6:45 Doors Open 7:00 Ric Diez Segment 9:00 Doors Close
LOCATION:Liberty Hall Theater 103 E Erwin St\, Tyler\, TX 75702
UID:e.1648.16065
SEQUENCE:3
DTSTAMP:20260420T025125Z
URL:http://tylerarea.sampleorg.com/events/details/kill-tony-bucket-reunion-16065
END:VEVENT

END:VCALENDAR
