BEGIN:VCALENDAR
VERSION:2.0
PRODID:-//ChamberMaster//Event Calendar 2.0//EN
METHOD:PUBLISH
X-PUBLISHED-TTL:P3D
REFRESH-INTERVAL:P3D
CALSCALE:GREGORIAN
BEGIN:VEVENT
DTSTART:20250822T230000Z
DTEND:20250823T020000Z
X-MICROSOFT-CDO-ALLDAYEVENT:FALSE
SUMMARY:Keep Tyler Beautiful 30th Anniversary
DESCRIPTION:Keep Tyler Beautiful is celebrating 30 years of keeping Tyler clean\, green\, and beautiful! This special evening includes dinner\, awards\, and reflections on decades of community impact as a proud Keep Texas Beautiful affiliate.
X-ALT-DESC;FMTTYPE=text/html:Keep Tyler Beautiful is celebrating 30 years of keeping Tyler clean\, green\, and beautiful! This special evening includes dinner\, awards\, and reflections on decades of community impact as a proud Keep Texas Beautiful affiliate.
LOCATION:W.T. Brookshire Conference Center
UID:e.1648.16190
SEQUENCE:3
DTSTAMP:20260419T174358Z
URL:http://tylerarea.sampleorg.com/events/details/keep-tyler-beautiful-30th-anniversary-16190
END:VEVENT

END:VCALENDAR
