BEGIN:VCALENDAR
VERSION:2.0
PRODID:-//ChamberMaster//Event Calendar 2.0//EN
METHOD:PUBLISH
X-PUBLISHED-TTL:P3D
REFRESH-INTERVAL:P3D
CALSCALE:GREGORIAN
BEGIN:VEVENT
DTSTART:20240622T160000Z
DTEND:20240622T200000Z
X-MICROSOFT-CDO-ALLDAYEVENT:FALSE
SUMMARY:June Open House Event at Fannin Meadows\, Tyler Texas
DESCRIPTION:Our Open House Event is an incredbile opportunity to take the first step towards joining our thriving ommunity\, one that offers not just exceptional homes\, but also a fulfilling lifestyle. Bring a friend\, bring a family member\, co-workers!
X-ALT-DESC;FMTTYPE=text/html:Our Open House Event is an incredbile opportunity to take the first step towards joining our thriving ommunity\, one that offers not just exceptional homes\, but also a fulfilling lifestyle. Bring a friend\, bring a family member\, co-workers!
LOCATION:12277 State Hwy 155 Tyler\, Texas 75708
UID:e.1648.15735
SEQUENCE:3
DTSTAMP:20260420T145352Z
URL:http://tylerarea.sampleorg.com/events/details/june-open-house-event-at-fannin-meadows-tyler-texas-15735
END:VEVENT

END:VCALENDAR
