BEGIN:VCALENDAR
VERSION:2.0
PRODID:-//ChamberMaster//Event Calendar 2.0//EN
METHOD:PUBLISH
X-PUBLISHED-TTL:P3D
REFRESH-INTERVAL:P3D
CALSCALE:GREGORIAN
BEGIN:VEVENT
DTSTART:20241114T010000Z
DTEND:20241114T030000Z
X-MICROSOFT-CDO-ALLDAYEVENT:FALSE
SUMMARY:John Conlee at Liberty Hall
DESCRIPTION:The "Common Man\," John Conlee\, will be live at Liberty Hall on November 13! Don't miss your chance to miss this iconic singer and Grand Ole Opry Member.
X-ALT-DESC;FMTTYPE=text/html:The &ldquo\;Common Man\,&rdquo\; John Conlee\, will be live at Liberty Hall on November 13! Don&rsquo\;t miss your chance to miss this iconic singer and Grand Ole Opry Member.
LOCATION:Liberty Hall
UID:e.1648.15857
SEQUENCE:3
DTSTAMP:20260420T073024Z
URL:http://tylerarea.sampleorg.com/events/details/john-conlee-at-liberty-hall-15857
END:VEVENT

END:VCALENDAR
