BEGIN:VCALENDAR
VERSION:2.0
PRODID:-//ChamberMaster//Event Calendar 2.0//EN
METHOD:PUBLISH
X-PUBLISHED-TTL:P3D
REFRESH-INTERVAL:P3D
CALSCALE:GREGORIAN
BEGIN:VEVENT
DTSTART:20250905T140000Z
DTEND:20250905T190000Z
X-MICROSOFT-CDO-ALLDAYEVENT:FALSE
SUMMARY:Job Fair at The Grove Kitchen & Gardens (Sept 5\, 9 AM–2 PM)
DESCRIPTION:Join us for The Grove Kitchen & Gardens Job Fair on Friday\, Sept 5\, from 9 AM to 2 PM. ????????-???? ???????????????????? ?????? ??????. Bring a resume and a valid ID. Experience is welcomed\; a great attitude and reliability are required. ???????? ??????????: Servers\, Bartenders\, Barbacks\, Food Runners Hosts/Hostesses Line Cooks\, Prep Cooks\, Dishwashers Banquet and Event Staff ???????? ???? ??????????: Competitive pay (FOH includes tips) Flexible scheduling Growth opportunities and team culture Shift meal ?????? ???? ????????????: Arrive anytime between 9 and 2 and check in at the host stand. Business-casual attire is recommended. If you cannot attend\, use the event link for updates and to share your information. Notes: Must meet scheduling needs and applicable TABC requirements for alcohol service. Equal Opportunity Employer.
X-ALT-DESC;FMTTYPE=text/html:Join us for The Grove Kitchen &amp\; Gardens Job Fair on Friday\, Sept 5\, from 9 AM to 2 PM. ????????-???? ???????????????????? ?????? ??????. Bring a resume and a valid ID. Experience is welcomed\; a great attitude and reliability are required. ???????? ??????????: Servers\, Bartenders\, Barbacks\, Food Runners Hosts/Hostesses Line Cooks\, Prep Cooks\, Dishwashers Banquet and Event Staff ???????? ???? ??????????: Competitive pay (FOH includes tips) Flexible scheduling Growth opportunities and team culture Shift meal ?????? ???? ????????????: Arrive anytime between 9 and 2 and check in at the host stand. Business-casual attire is recommended. If you cannot attend\, use the event link for updates and to share your information. Notes: Must meet scheduling needs and applicable TABC requirements for alcohol service. Equal Opportunity Employer.
LOCATION:The Grove Kitchen & Gardens\, 3500 Old Jacksonville Hwy\, Tyler\, TX 75701
UID:e.1648.16213
SEQUENCE:3
DTSTAMP:20260419T173957Z
URL:http://tylerarea.sampleorg.com/events/details/job-fair-at-the-grove-kitchen-gardens-sept-5-9-am-2-pm-16213
END:VEVENT

END:VCALENDAR
